BEGIN:VCALENDAR
VERSION:2.0
PRODID:-//Schwanenfunker - ECPv6.1.3//NONSGML v1.0//EN
CALSCALE:GREGORIAN
METHOD:PUBLISH
X-ORIGINAL-URL:https://schwanenfunker-kleve.de
X-WR-CALDESC:Veranstaltungen für Schwanenfunker
REFRESH-INTERVAL;VALUE=DURATION:PT1H
X-Robots-Tag:noindex
X-PUBLISHED-TTL:PT1H
BEGIN:VTIMEZONE
TZID:UTC
BEGIN:STANDARD
TZOFFSETFROM:+0000
TZOFFSETTO:+0000
TZNAME:UTC
DTSTART:20260101T000000
END:STANDARD
END:VTIMEZONE
BEGIN:VEVENT
DTSTART;TZID=UTC:20260130T140000
DTEND;TZID=UTC:20260130T220000
DTSTAMP:20260422T141457
CREATED:20250227T152901Z
LAST-MODIFIED:20250227T152901Z
UID:2157-1769781600-1769810400@schwanenfunker-kleve.de
SUMMARY:Generalprobe
DESCRIPTION:
URL:https://schwanenfunker-kleve.de/event/generalprobe-2/
LOCATION:Stadthalle Kleve
END:VEVENT
BEGIN:VEVENT
DTSTART;TZID=UTC:20260131T163000
DTEND;TZID=UTC:20260131T233000
DTSTAMP:20260422T141457
CREATED:20250227T153130Z
LAST-MODIFIED:20250227T153130Z
UID:2159-1769877000-1769902200@schwanenfunker-kleve.de
SUMMARY:1. Sitzung
DESCRIPTION:vor der Premierensitzung findet im Foyer ein Sektempfang statt.
URL:https://schwanenfunker-kleve.de/event/1-sitzung-2/
LOCATION:Stadthalle Kleve
END:VEVENT
END:VCALENDAR